BEGIN:VCALENDAR
VERSION:2.0
PRODID:-//Unionhilfswerk //NONSGML Events //EN
CALSCALE:GREGORIAN
X-WR-CALNAME:Unionhilfswerk
BEGIN:VEVENT
CREATED:20250716T083314
UID:6879
DTSTART;VALUE=DATE:20251105T200000
DTEND;VALUE=DATE:20251105T220000
DTSTAMP:20260422T084015
LOCATION:Theater am Kudamm im Ernst Reuter Saal\, Eichborndamm 213\, 13437 Berlin
DESCRIPTION:
SUMMARY:Theater und Kultur
ORGANIZER:
URL;VALUE=URI:https://www.unionhilfswerk.de/ueber-uns/landesverband-berlin/termine/theater-und-kultur-13/
TRANSP:OPAQUE
END:VEVENT
END:VCALENDAR
