BEGIN:VCALENDAR
VERSION:2.0
PRODID:-//Unionhilfswerk //NONSGML Events //EN
CALSCALE:GREGORIAN
X-WR-CALNAME:Unionhilfswerk
BEGIN:VEVENT
CREATED:20250716T091644
UID:6889
DTSTART;VALUE=DATE:20260225T183000
DTEND;VALUE=DATE:20260225T203000
DTSTAMP:20260422T084056
LOCATION:Schlossparktheater\, Schlossstraße 48\, 12165 Berlin
DESCRIPTION:
SUMMARY:Theater und Kultur
ORGANIZER:
URL;VALUE=URI:https://www.unionhilfswerk.de/ueber-uns/landesverband-berlin/termine/theater-und-kultur-23/
TRANSP:OPAQUE
END:VEVENT
END:VCALENDAR
