BEGIN:VCALENDAR
VERSION:2.0
PRODID:-//Unionhilfswerk //NONSGML Events //EN
CALSCALE:GREGORIAN
X-WR-CALNAME:Unionhilfswerk
BEGIN:VEVENT
CREATED:20250716T100852
UID:6892
DTSTART;VALUE=DATE:20251230T000000
DTEND;VALUE=DATE:20260102T020000
DTSTAMP:20260423T082041
LOCATION:\, \,  
DESCRIPTION:
SUMMARY:Silvesterfahrt ins Blaue
ORGANIZER:
URL;VALUE=URI:https://www.unionhilfswerk.de/ueber-uns/landesverband-berlin/termine/silvesterfahrt-ins-blaue/
TRANSP:OPAQUE
END:VEVENT
END:VCALENDAR
