BEGIN:VCALENDAR
VERSION:2.0
PRODID:-//Unionhilfswerk //NONSGML Events //EN
CALSCALE:GREGORIAN
X-WR-CALNAME:Unionhilfswerk
BEGIN:VEVENT
CREATED:20250717T105459
UID:6894
DTSTART;VALUE=DATE:20251016T180000
DTEND;VALUE=DATE:20251016T200000
DTSTAMP:20260422T084056
LOCATION:Selbsthilfezentrum Reinickendorf\, Eichhorster Weg 32\, 13435 Berlin
DESCRIPTION:Dokumentarfilm\r\nToralf König-Benz (Dokumentarfilmer)
SUMMARY:Filmvorführung „Angst – was tun?!“
ORGANIZER:
URL;VALUE=URI:https://www.unionhilfswerk.de/angebote/beratung-unterstuetzung/selbsthilfezentrum-reinickendorf/termine/filmvorfuehrung-angst-was-tun/
TRANSP:OPAQUE
END:VEVENT
END:VCALENDAR
