BEGIN:VCALENDAR
VERSION:2.0
PRODID:-//Unionhilfswerk //NONSGML Events //EN
CALSCALE:GREGORIAN
X-WR-CALNAME:Unionhilfswerk
BEGIN:VEVENT
CREATED:20250723T071726
UID:6903
DTSTART;VALUE=DATE:20251018T100000
DTEND;VALUE=DATE:20251018T120000
DTSTAMP:20260422T084300
LOCATION:Seniorenwohnhaus\, Kulbeweg 24a\, 13587 Berlin
DESCRIPTION:
SUMMARY:Frühstückstafel
ORGANIZER:
URL;VALUE=URI:https://www.unionhilfswerk.de/ueber-uns/landesverband-berlin/termine/fruehstueckstafel-14/
TRANSP:OPAQUE
END:VEVENT
END:VCALENDAR
