BEGIN:VCALENDAR
VERSION:2.0
PRODID:-//Unionhilfswerk //NONSGML Events //EN
CALSCALE:GREGORIAN
X-WR-CALNAME:Unionhilfswerk
BEGIN:VEVENT
CREATED:20250728T132606
UID:6910
DTSTART;VALUE=DATE:20251006T140000
DTEND;VALUE=DATE:20251006T160000
DTSTAMP:20260423T082220
LOCATION:Pariser Platz / Brandenburger Tor\, \,  Berlin-Mitte
DESCRIPTION:Jubiläumskundgebung: 15 Jahre Berliner Kontaktstellen PflegeEngagement
SUMMARY:Save the date: „Pflege braucht Unterstützung“
ORGANIZER:Unionhilfswerk - Kontaktstelle PflegeEngagement Reinickendorf
URL;VALUE=URI:https://www.unionhilfswerk.de/angebote/beratung-unterstuetzung/kontaktstelle-pflegeengagement-reinickendorf/termine/6910/
TRANSP:OPAQUE
END:VEVENT
END:VCALENDAR
