BEGIN:VCALENDAR
VERSION:2.0
PRODID:-//Unionhilfswerk //NONSGML Events //EN
CALSCALE:GREGORIAN
X-WR-CALNAME:Unionhilfswerk
BEGIN:VEVENT
CREATED:20250805T123020
UID:6938
DTSTART;VALUE=DATE:20250908T163000
DTEND;VALUE=DATE:20250908T180000
DTSTAMP:20260422T084322
LOCATION:Stadtteilzentrum Rollberge\, Zabel-Krüger-Damm 52\, 13469 Berlin
DESCRIPTION:Kategorie auswählen\r\nmit Alisha Rexygel | Projektleitung Betreuungsverein Volkssolidarität Berlin e.V.
SUMMARY:Vorsorge treffen … aber wie?
ORGANIZER:
URL;VALUE=URI:https://www.unionhilfswerk.de/engagement/termine/vorsorge-treffen-aber-wie-3/
TRANSP:OPAQUE
END:VEVENT
END:VCALENDAR
