BEGIN:VCALENDAR
VERSION:2.0
PRODID:-//Unionhilfswerk //NONSGML Events //EN
CALSCALE:GREGORIAN
X-WR-CALNAME:Unionhilfswerk
BEGIN:VEVENT
CREATED:20250808T073220
UID:6967
DTSTART;VALUE=DATE:20250915T160000
DTEND;VALUE=DATE:20250915T173000
DTSTAMP:20260423T082221
LOCATION:Stadtteilzentrum Rollberge\, Zabel-Krüger-Damm 52\, 13469 Berlin
DESCRIPTION:Infoveranstaltung\r\nmit Antje Mehrmann-Kremer | EJF e.V. und Irina Neicke | Pflegestützpunkt Reinickendorf
SUMMARY:Demenz … was ist das?
ORGANIZER:
URL;VALUE=URI:https://www.unionhilfswerk.de/engagement/termine/demenz-was-ist-das-2/
TRANSP:OPAQUE
END:VEVENT
END:VCALENDAR
