BEGIN:VCALENDAR
VERSION:2.0
PRODID:-//Unionhilfswerk //NONSGML Events //EN
CALSCALE:GREGORIAN
X-WR-CALNAME:Unionhilfswerk
BEGIN:VEVENT
CREATED:20250821T131839
UID:7016
DTSTART;VALUE=DATE:20251023T110000
DTEND;VALUE=DATE:20251023T130000
DTSTAMP:20260422T084014
LOCATION:\, \,  
DESCRIPTION:
SUMMARY:Tagesfahrt
ORGANIZER:
URL;VALUE=URI:https://www.unionhilfswerk.de/ueber-uns/landesverband-berlin/termine/tagesfahrt-5/
TRANSP:OPAQUE
END:VEVENT
END:VCALENDAR
