BEGIN:VCALENDAR
VERSION:2.0
PRODID:-//Unionhilfswerk //NONSGML Events //EN
CALSCALE:GREGORIAN
X-WR-CALNAME:Unionhilfswerk
BEGIN:VEVENT
CREATED:20250821T140223
UID:7026
DTSTART;VALUE=DATE:20251029T143000
DTEND;VALUE=DATE:20251029T163000
DTSTAMP:20260422T084144
LOCATION:Seniorenzentrum Friedrichshain\, Singerstraße 83\, 10243 Berlin
DESCRIPTION:
SUMMARY:Leierkastenkunst
ORGANIZER:
URL;VALUE=URI:https://www.unionhilfswerk.de/ueber-uns/landesverband-berlin/termine/leierkastenkunst/
TRANSP:OPAQUE
END:VEVENT
END:VCALENDAR
