BEGIN:VCALENDAR
VERSION:2.0
PRODID:-//Unionhilfswerk //NONSGML Events //EN
CALSCALE:GREGORIAN
X-WR-CALNAME:Unionhilfswerk
BEGIN:VEVENT
CREATED:20250821T141059
UID:7030
DTSTART;VALUE=DATE:20251205T100000
DTEND;VALUE=DATE:20251205T120000
DTSTAMP:20260423T082059
LOCATION:Seniorenzentrum Friedrichshain\, Singerstraße 83\, 10243 Berlin
DESCRIPTION:
SUMMARY:Advent, Advent….
ORGANIZER:
URL;VALUE=URI:https://www.unionhilfswerk.de/ueber-uns/landesverband-berlin/termine/advent-advent-2/
TRANSP:OPAQUE
END:VEVENT
END:VCALENDAR
