BEGIN:VCALENDAR
VERSION:2.0
PRODID:-//Unionhilfswerk //NONSGML Events //EN
CALSCALE:GREGORIAN
X-WR-CALNAME:Unionhilfswerk
BEGIN:VEVENT
CREATED:20250821T141311
UID:7031
DTSTART;VALUE=DATE:20251217T140000
DTEND;VALUE=DATE:20251217T160000
DTSTAMP:20260422T084145
LOCATION:Seniorenzentrum Friedrichshain\, Singerstraße 83\, 10243 Berlin
DESCRIPTION:
SUMMARY:Weihnachten steht vor der Tür
ORGANIZER:
URL;VALUE=URI:https://www.unionhilfswerk.de/ueber-uns/landesverband-berlin/termine/weihnachten-steht-vor-der-tuer/
TRANSP:OPAQUE
END:VEVENT
END:VCALENDAR
