BEGIN:VCALENDAR
VERSION:2.0
PRODID:-//Unionhilfswerk //NONSGML Events //EN
CALSCALE:GREGORIAN
X-WR-CALNAME:Unionhilfswerk
BEGIN:VEVENT
CREATED:20250822T075349
UID:7035
DTSTART;VALUE=DATE:20251212T173000
DTEND;VALUE=DATE:20251212T193000
DTSTAMP:20260423T084108
LOCATION:Pflegewohnheim Dr. Günter Hesse\, Pankower Straße 14\, 13156 Berlin
DESCRIPTION:
SUMMARY:Weihnachtsfeier
ORGANIZER:
URL;VALUE=URI:https://www.unionhilfswerk.de/ueber-uns/landesverband-berlin/termine/weihnachtsfeier-2/
TRANSP:OPAQUE
END:VEVENT
END:VCALENDAR
