BEGIN:VCALENDAR
VERSION:2.0
PRODID:-//Unionhilfswerk //NONSGML Events //EN
CALSCALE:GREGORIAN
X-WR-CALNAME:Unionhilfswerk
BEGIN:VEVENT
CREATED:20250822T082719
UID:7041
DTSTART;VALUE=DATE:20251120T150000
DTEND;VALUE=DATE:20251120T160000
DTSTAMP:20260423T082045
LOCATION:Pflegewohnheim Am Plänterwald\, Neue Krugallee 142\, 12437 Berlin
DESCRIPTION:
SUMMARY:Literaturstunde
ORGANIZER:
URL;VALUE=URI:https://www.unionhilfswerk.de/ueber-uns/landesverband-berlin/termine/literaturstunde-16/
TRANSP:OPAQUE
END:VEVENT
END:VCALENDAR
