BEGIN:VCALENDAR
VERSION:2.0
PRODID:-//Unionhilfswerk //NONSGML Events //EN
CALSCALE:GREGORIAN
X-WR-CALNAME:Unionhilfswerk
BEGIN:VEVENT
CREATED:20250903T111013
UID:7046
DTSTART;VALUE=DATE:20251003T190000
DTEND;VALUE=DATE:20251003T230000
DTSTAMP:20260422T084113
LOCATION:Bi Nuu\, U-Bahnhof Schlesisches Tor\, 10997 Berlin
DESCRIPTION:Mitmachaktion\r\nDie BockWurschtBude, Punkrock aus Frankfurt/Oder; Muffenklaus, Punk aus Berlin; GrossstadtPiraten, Punkrock aus Berlin; Niki Lauda FireFighters, High Octane Hardcore aus Berlin
SUMMARY:Lautstark Richtung Sarg
ORGANIZER:
URL;VALUE=URI:https://www.unionhilfswerk.de/engagement/termine/lautstark-richtung-sarg/
TRANSP:OPAQUE
END:VEVENT
END:VCALENDAR
