BEGIN:VCALENDAR
VERSION:2.0
PRODID:-//Unionhilfswerk //NONSGML Events //EN
CALSCALE:GREGORIAN
X-WR-CALNAME:Unionhilfswerk
BEGIN:VEVENT
CREATED:20250923T125339
UID:7119
DTSTART;VALUE=DATE:20251006T160000
DTEND;VALUE=DATE:20251006T180000
DTSTAMP:20260423T082100
LOCATION:Stadtteilzentrum F1 | Offener Treff\, Friedrichstr. 1\, 10969 Berlin
DESCRIPTION:Mitmachaktion\r\nmit Zeitzeugenbörse e.V.
SUMMARY:35 Jahre Deutsche Wiedervereinigung – Stimmen vom Mehringplatz
ORGANIZER:
URL;VALUE=URI:https://www.unionhilfswerk.de/engagement/termine/35-jahre-deutsche-wiedervereinigung-stimmen-vom-mehringplatz/
TRANSP:OPAQUE
END:VEVENT
END:VCALENDAR
