BEGIN:VCALENDAR
VERSION:2.0
PRODID:-//Unionhilfswerk //NONSGML Events //EN
CALSCALE:GREGORIAN
X-WR-CALNAME:Unionhilfswerk
BEGIN:VEVENT
CREATED:20251110T162634
UID:7265
DTSTART;VALUE=DATE:20260211T170000
DTEND;VALUE=DATE:20260211T190000
DTSTAMP:20260423T094609
LOCATION:Unionhilfswerk Dienstleistungs.Campus\, Schwiebusser Str. 18\, 10965 Berlin
DESCRIPTION:Austausch- / Reflexionsrunde\r\nMit Erfahrungsexpert*innen von Social Inclusion Berlin e.V.
SUMMARY:Wenn Menschen mit Behinderungen sich engagieren
ORGANIZER:
URL;VALUE=URI:https://www.unionhilfswerk.de/engagement/termine/wenn-menschen-mit-behinderungen-sich-engagieren-2/
TRANSP:OPAQUE
END:VEVENT
END:VCALENDAR
