BEGIN:VCALENDAR
VERSION:2.0
PRODID:-//Unionhilfswerk //NONSGML Events //EN
CALSCALE:GREGORIAN
X-WR-CALNAME:Unionhilfswerk
BEGIN:VEVENT
CREATED:20251110T162923
UID:7266
DTSTART;VALUE=DATE:20260219T160000
DTEND;VALUE=DATE:20260219T200000
DTSTAMP:20260423T111149
LOCATION:Unionhilfswerk Dienstleistungs.Campus\, Schwiebusser Str. 18\, 10965 Berlin
DESCRIPTION:Fortbildung\r\nMit Referent*in vom Archiv der Jugendkulturen
SUMMARY:Gemeinsam gegen Hass und Desinformation im Netz
ORGANIZER:
URL;VALUE=URI:https://www.unionhilfswerk.de/engagement/termine/gemeinsam-gegen-hass-und-desinformation-im-netz/
TRANSP:OPAQUE
END:VEVENT
END:VCALENDAR
