BEGIN:VCALENDAR
VERSION:2.0
PRODID:-//Unionhilfswerk //NONSGML Events //EN
CALSCALE:GREGORIAN
X-WR-CALNAME:Unionhilfswerk
BEGIN:VEVENT
CREATED:20251110T163235
UID:7267
DTSTART;VALUE=DATE:20260225T160000
DTEND;VALUE=DATE:20260225T200000
DTSTAMP:20260423T113933
LOCATION:Unionhilfswerk Dienstleistungs.Campus\, Schwiebusser Str. 18\, 10965 Berlin
DESCRIPTION:Fortbildung\r\nMit Cynthia Agbontaen, Bildungskollektiv GEGEN-ARGUMENT
SUMMARY:Argumentations- und Haltungstraining für die Vielfalt geschlechtlicher, familialer und sexueller Lebensweisen
ORGANIZER:
URL;VALUE=URI:https://www.unionhilfswerk.de/engagement/termine/argumentations-und-haltungstraining-fuer-die-vielfalt-geschlechtlicher-familialer-und-sexueller-lebensweisen/
TRANSP:OPAQUE
END:VEVENT
END:VCALENDAR
