BEGIN:VCALENDAR
VERSION:2.0
PRODID:-//Unionhilfswerk //NONSGML Events //EN
CALSCALE:GREGORIAN
X-WR-CALNAME:Unionhilfswerk
BEGIN:VEVENT
CREATED:20251112T122252
UID:7275
DTSTART;VALUE=DATE:20260228T120000
DTEND;VALUE=DATE:20260228T150000
DTSTAMP:20260422T084229
LOCATION:Seniorenfreizeitstätte Böhmisches Dorf\, Kirchgasse 62/ Ecke Richardstraße\, 12043 Berlin
DESCRIPTION:
SUMMARY:Spiel und Sport
ORGANIZER:
URL;VALUE=URI:https://www.unionhilfswerk.de/ueber-uns/landesverband-berlin/termine/spiel-und-sport-2/
TRANSP:OPAQUE
END:VEVENT
END:VCALENDAR
