BEGIN:VCALENDAR
VERSION:2.0
PRODID:-//Unionhilfswerk //NONSGML Events //EN
CALSCALE:GREGORIAN
X-WR-CALNAME:Unionhilfswerk
BEGIN:VEVENT
CREATED:20251112T135518
UID:7279
DTSTART;VALUE=DATE:20251206T100000
DTEND;VALUE=DATE:20251206T120000
DTSTAMP:20260422T084300
LOCATION:Freizeitstätte Schäfersee\, Stargardtstraße 3\, 13407 Berlin
DESCRIPTION:
SUMMARY:Weihnachtsfeier in der Ortsteilgruppe …
ORGANIZER:
URL;VALUE=URI:https://www.unionhilfswerk.de/ueber-uns/landesverband-berlin/termine/weihnachtsfeier-in-der-ortsteilgruppe/
TRANSP:OPAQUE
END:VEVENT
END:VCALENDAR
