BEGIN:VCALENDAR
VERSION:2.0
PRODID:-//Unionhilfswerk //NONSGML Events //EN
CALSCALE:GREGORIAN
X-WR-CALNAME:Unionhilfswerk
BEGIN:VEVENT
CREATED:20251112T141526
UID:7283
DTSTART;VALUE=DATE:20250124T110000
DTEND;VALUE=DATE:20250124T130000
DTSTAMP:20260423T082128
LOCATION:Pflegewohnheim Dr. Günter Hesse\, Pankower Straße 14\, 13156 Berlin
DESCRIPTION:
SUMMARY:Neujahrsbrunch
ORGANIZER:
URL;VALUE=URI:https://www.unionhilfswerk.de/ueber-uns/landesverband-berlin/termine/neujahrsbrunch/
TRANSP:OPAQUE
END:VEVENT
END:VCALENDAR
