BEGIN:VCALENDAR
VERSION:2.0
PRODID:-//Unionhilfswerk //NONSGML Events //EN
CALSCALE:GREGORIAN
X-WR-CALNAME:Unionhilfswerk
BEGIN:VEVENT
CREATED:20251112T141928
UID:7284
DTSTART;VALUE=DATE:20251213T150000
DTEND;VALUE=DATE:20251213T170000
DTSTAMP:20260423T082240
LOCATION:Bohnsdorfer Kulturküche\, Dahmestraße 33\, 12526 Berlin
DESCRIPTION:
SUMMARY:Weihnachtsfeier in Treptow
ORGANIZER:
URL;VALUE=URI:https://www.unionhilfswerk.de/ueber-uns/landesverband-berlin/termine/weihnachtsfeier-in-treptow/
TRANSP:OPAQUE
END:VEVENT
END:VCALENDAR
