BEGIN:VCALENDAR
VERSION:2.0
PRODID:-//Unionhilfswerk //NONSGML Events //EN
CALSCALE:GREGORIAN
X-WR-CALNAME:Unionhilfswerk
BEGIN:VEVENT
CREATED:20251112T145041
UID:7286
DTSTART;VALUE=DATE:20260311T153000
DTEND;VALUE=DATE:20260311T190000
DTSTAMP:20260423T100227
LOCATION:Unionhilfswerk Dienstleistungs.Campus\, Schwiebusser Str. 18\, 10965 Berlin
DESCRIPTION:Fortbildung\r\nMit Mit Leona Petereit, Supervisorin DGSV, Systemic Psychotherapist HPG, Master Coach + Trainer DVNLP
SUMMARY:Grundlagen der Kommunikation
ORGANIZER:
URL;VALUE=URI:https://www.unionhilfswerk.de/engagement/termine/grundlagen-der-kommunikation/
TRANSP:OPAQUE
END:VEVENT
END:VCALENDAR
