BEGIN:VCALENDAR
VERSION:2.0
PRODID:-//Unionhilfswerk //NONSGML Events //EN
CALSCALE:GREGORIAN
X-WR-CALNAME:Unionhilfswerk
BEGIN:VEVENT
CREATED:20251112T145818
UID:7290
DTSTART;VALUE=DATE:20260107T140000
DTEND;VALUE=DATE:20260107T170000
DTSTAMP:20260422T084106
LOCATION:Freizeitstätte Schillerpark\, Barfusstraße 22-24\, 13349 Berlin
DESCRIPTION:
SUMMARY:Neujahrsempfang im Wedding
ORGANIZER:
URL;VALUE=URI:https://www.unionhilfswerk.de/ueber-uns/landesverband-berlin/termine/neujahrsempfang-im-wedding-2/
TRANSP:OPAQUE
END:VEVENT
END:VCALENDAR
