BEGIN:VCALENDAR
VERSION:2.0
PRODID:-//Unionhilfswerk //NONSGML Events //EN
CALSCALE:GREGORIAN
X-WR-CALNAME:Unionhilfswerk
BEGIN:VEVENT
CREATED:20251112T150449
UID:7292
DTSTART;VALUE=DATE:20260110T100000
DTEND;VALUE=DATE:20260110T120000
DTSTAMP:20260423T082059
LOCATION:Seniorenklub Lindenufer\, Mauerstraße 10a\, 13597 Berlin
DESCRIPTION:
SUMMARY:Frühstücksbuffet
ORGANIZER:
URL;VALUE=URI:https://www.unionhilfswerk.de/ueber-uns/landesverband-berlin/termine/fruehstuecksbuffet-14/
TRANSP:OPAQUE
END:VEVENT
END:VCALENDAR
