BEGIN:VCALENDAR
VERSION:2.0
PRODID:-//Unionhilfswerk //NONSGML Events //EN
CALSCALE:GREGORIAN
X-WR-CALNAME:Unionhilfswerk
BEGIN:VEVENT
CREATED:20251112T150608
UID:7298
DTSTART;VALUE=DATE:20260416T160000
DTEND;VALUE=DATE:20260416T190000
DTSTAMP:20260423T100339
LOCATION:Unionhilfswerk Dienstleistungs.Campus\, Schwiebusser Str. 18\, 10965 Berlin
DESCRIPTION:Fortbildung\r\nMit Petra Stunkat,  Coach, Trainerin, Beraterin, examinierte Altenpflegerin 
SUMMARY:Auch mal Nein sagen im Besuchsdienst
ORGANIZER:
URL;VALUE=URI:https://www.unionhilfswerk.de/engagement/termine/auch-mal-nein-sagen-im-besuchsdienst/
TRANSP:OPAQUE
END:VEVENT
END:VCALENDAR
