BEGIN:VCALENDAR
VERSION:2.0
PRODID:-//Unionhilfswerk //NONSGML Events //EN
CALSCALE:GREGORIAN
X-WR-CALNAME:Unionhilfswerk
BEGIN:VEVENT
CREATED:20251112T151400
UID:7302
DTSTART;VALUE=DATE:20260504T170000
DTEND;VALUE=DATE:20260504T200000
DTSTAMP:20260423T094523
LOCATION:Unionhilfswerk Dienstleistungs.Campus\, Schwiebusser Str. 18\, 10965 Berlin
DESCRIPTION:Fortbildung\r\nMit Patrizia Di Tolla, Dipl.-Psychologin und Erfahrungsexpert*innen 
SUMMARY:Menschen in krisenhaften Situationen begleiten III – Sich selbst helfen – mit Hilfe Anderer
ORGANIZER:
URL;VALUE=URI:https://www.unionhilfswerk.de/engagement/termine/menschen-in-krisenhaften-situationen-begleiten-iii-sich-selbst-helfen-mit-hilfe-anderer-2/
TRANSP:OPAQUE
END:VEVENT
END:VCALENDAR
