BEGIN:VCALENDAR
VERSION:2.0
PRODID:-//Unionhilfswerk //NONSGML Events //EN
CALSCALE:GREGORIAN
X-WR-CALNAME:Unionhilfswerk
BEGIN:VEVENT
CREATED:20251112T152022
UID:7304
DTSTART;VALUE=DATE:20260602T150000
DTEND;VALUE=DATE:20260602T170000
DTSTAMP:20260422T084107
LOCATION:Harzerstr. Ecke Lohmühlenstr an der Brücke\, \, 12435 Berlin 
DESCRIPTION:Mitmachaktion\r\nMit Rolf R.W. Strobel, Guide von Erlebnis-Touren 
SUMMARY:Auf den Spuren des Mauerstreifens – Kunger-Kiez in Alt-Treptow
ORGANIZER:
URL;VALUE=URI:https://www.unionhilfswerk.de/engagement/termine/auf-den-spuren-des-mauerstreifens-kunger-kiez-in-alt-treptow/
TRANSP:OPAQUE
END:VEVENT
END:VCALENDAR
