BEGIN:VCALENDAR
VERSION:2.0
PRODID:-//Unionhilfswerk //NONSGML Events //EN
CALSCALE:GREGORIAN
X-WR-CALNAME:Unionhilfswerk
BEGIN:VEVENT
CREATED:20251112T152639
UID:7306
DTSTART;VALUE=DATE:20260625T150000
DTEND;VALUE=DATE:20260625T190000
DTSTAMP:20260423T094615
LOCATION:Unionhilfswerk Dienstleistungs.Campus\, Schwiebusser Str. 18\, 10965 Berlin
DESCRIPTION:Fortbildung\r\nMit Sabine Weisshaar, Coach und Gestaltberaterin
SUMMARY:Wandel gestalten – Gut vorbereitet in den (Un-)Ruhestand
ORGANIZER:
URL;VALUE=URI:https://www.unionhilfswerk.de/engagement/termine/wandel-gestalten-gut-vorbereitet-in-den-un-ruhestand/
TRANSP:OPAQUE
END:VEVENT
END:VCALENDAR
