BEGIN:VCALENDAR
VERSION:2.0
PRODID:-//Unionhilfswerk //NONSGML Events //EN
CALSCALE:GREGORIAN
X-WR-CALNAME:Unionhilfswerk
BEGIN:VEVENT
CREATED:20251112T152906
UID:7307
DTSTART;VALUE=DATE:20260909T153000
DTEND;VALUE=DATE:20260909T190000
DTSTAMP:20260423T083121
LOCATION:Unionhilfswerk Dienstleistungs.Campus\, Schwiebusser Str. 18\, 10965 Berlin
DESCRIPTION:Fortbildung\r\nMit Leona Petereit, Supervisorin DGSV, Systemic Psychotherapist HPG, Master Coach + Trainer DVNLP
SUMMARY:Moderationskompetenzen – Einführung in Moderation mit Praxisübungen
ORGANIZER:
URL;VALUE=URI:https://www.unionhilfswerk.de/engagement/termine/moderationskompetenzen-einfuehrung-in-moderation-mit-praxisuebungen/
TRANSP:OPAQUE
END:VEVENT
END:VCALENDAR
