BEGIN:VCALENDAR
VERSION:2.0
PRODID:-//Unionhilfswerk //NONSGML Events //EN
CALSCALE:GREGORIAN
X-WR-CALNAME:Unionhilfswerk
BEGIN:VEVENT
CREATED:20251112T153127
UID:7308
DTSTART;VALUE=DATE:20260915T160000
DTEND;VALUE=DATE:20260915T190000
DTSTAMP:20260423T082048
LOCATION:Unionhilfswerk Dienstleistungs.Campus\, Schwiebusser Str. 18\, 10965 Berlin
DESCRIPTION:Fortbildung\r\nMit Petra Stunkat,  Coach, Trainerin, Beraterin, examinierte Alten-pflegerin
SUMMARY:Nähe und Distanz – Selbstfürsorge als Schlüssel für eine gelingende Begleitung. Nah am Menschen – ohne mich selbst zu verlieren.
ORGANIZER:
URL;VALUE=URI:https://www.unionhilfswerk.de/engagement/termine/naehe-und-distanz-selbstfuersorge-als-schluessel-fuer-eine-gelingende-begleitung-nah-am-menschen-ohne-mich-selbst-zu-verlieren/
TRANSP:OPAQUE
END:VEVENT
END:VCALENDAR
