BEGIN:VCALENDAR
VERSION:2.0
PRODID:-//Unionhilfswerk //NONSGML Events //EN
CALSCALE:GREGORIAN
X-WR-CALNAME:Unionhilfswerk
BEGIN:VEVENT
CREATED:20251112T154200
UID:7318
DTSTART;VALUE=DATE:20261014T160000
DTEND;VALUE=DATE:20261014T190000
DTSTAMP:20260422T084111
LOCATION:Unionhilfswerk Dienstleistungs.Campus\, Schwiebusser Str. 18\, 10965 Berlin
DESCRIPTION:Fortbildung\r\nMit Aaron Antosz, Einsatzleitung im Mobilitätshilfedienst Lichtenberg
SUMMARY:Umgang mit dem Rollstuhl – Training
ORGANIZER:
URL;VALUE=URI:https://www.unionhilfswerk.de/engagement/termine/umgang-mit-dem-rollstuhl-5/
TRANSP:OPAQUE
END:VEVENT
END:VCALENDAR
