BEGIN:VCALENDAR
VERSION:2.0
PRODID:-//Unionhilfswerk //NONSGML Events //EN
CALSCALE:GREGORIAN
X-WR-CALNAME:Unionhilfswerk
BEGIN:VEVENT
CREATED:20251112T154624
UID:7320
DTSTART;VALUE=DATE:20261110T143000
DTEND;VALUE=DATE:20261110T183000
DTSTAMP:20260422T084015
LOCATION:Unionhilfswerk Dienstleistungs.Campus\, Schwiebusser Str. 18\, 10965 Berlin
DESCRIPTION:Fortbildung\r\nMit Sarah Benz, Dipl.-Sozialpädagogin, Trainerin Kommunikation ohne Worte KoW®
SUMMARY:Die Sprache der Emotionen
ORGANIZER:
URL;VALUE=URI:https://www.unionhilfswerk.de/engagement/termine/die-sprache-der-emotionen/
TRANSP:OPAQUE
END:VEVENT
END:VCALENDAR
