BEGIN:VCALENDAR
VERSION:2.0
PRODID:-//Unionhilfswerk //NONSGML Events //EN
CALSCALE:GREGORIAN
X-WR-CALNAME:Unionhilfswerk
BEGIN:VEVENT
CREATED:20251113T084409
UID:7340
DTSTART;VALUE=DATE:20260304T150000
DTEND;VALUE=DATE:20260304T170000
DTSTAMP:20260423T082048
LOCATION:Unionhilfswerk Dienstleistungs.Campus\, Schwiebusser Straße 18\, 10965 Berlin
DESCRIPTION:
SUMMARY:Jahreshauptversammlung des BV Kreuzberg
ORGANIZER:
URL;VALUE=URI:https://www.unionhilfswerk.de/ueber-uns/landesverband-berlin/termine/jahreshauptversammlung-des-bv-kreuzberg-3/
TRANSP:OPAQUE
END:VEVENT
END:VCALENDAR
