BEGIN:VCALENDAR
VERSION:2.0
PRODID:-//Unionhilfswerk //NONSGML Events //EN
CALSCALE:GREGORIAN
X-WR-CALNAME:Unionhilfswerk
BEGIN:VEVENT
CREATED:20251113T093141
UID:7349
DTSTART;VALUE=DATE:20260319T160000
DTEND;VALUE=DATE:20260319T180000
DTSTAMP:20260422T084145
LOCATION:Seniorenzentrum Friedrichshain\, Singerstraße 83\, 10243 Berlin
DESCRIPTION:
SUMMARY:Jahreshauptversammlung des Bezirksverbands Friedrichshain
ORGANIZER:
URL;VALUE=URI:https://www.unionhilfswerk.de/ueber-uns/landesverband-berlin/termine/jahreshauptversammlung-des-bezirksverbands-friedrichshain-2/
TRANSP:OPAQUE
END:VEVENT
END:VCALENDAR
