BEGIN:VCALENDAR
VERSION:2.0
PRODID:-//Unionhilfswerk //NONSGML Events //EN
CALSCALE:GREGORIAN
X-WR-CALNAME:Unionhilfswerk
BEGIN:VEVENT
CREATED:20251113T092936
UID:7351
DTSTART;VALUE=DATE:20260109T100000
DTEND;VALUE=DATE:20260109T120000
DTSTAMP:20260422T084017
LOCATION:Seniorenzentrum Friedrichshain\, Singerstraße 83\, 10243 Berlin
DESCRIPTION:
SUMMARY:Wir gratulieren…
ORGANIZER:
URL;VALUE=URI:https://www.unionhilfswerk.de/ueber-uns/landesverband-berlin/termine/wir-gratulieren-3/
TRANSP:OPAQUE
END:VEVENT
END:VCALENDAR
