BEGIN:VCALENDAR
VERSION:2.0
PRODID:-//Unionhilfswerk //NONSGML Events //EN
CALSCALE:GREGORIAN
X-WR-CALNAME:Unionhilfswerk
BEGIN:VEVENT
CREATED:20251113T094443
UID:7361
DTSTART;VALUE=DATE:20260114T143000
DTEND;VALUE=DATE:20260114T163000
DTSTAMP:20260422T084259
LOCATION:Seniorenzentrum Friedrichshain\, Singerstraße 83\, 10243 Berlin
DESCRIPTION:
SUMMARY:Wenn einer eine Reise tut…
ORGANIZER:
URL;VALUE=URI:https://www.unionhilfswerk.de/ueber-uns/landesverband-berlin/termine/wenn-einer-eine-reise-tut-4/
TRANSP:OPAQUE
END:VEVENT
END:VCALENDAR
