BEGIN:VCALENDAR
VERSION:2.0
PRODID:-//Unionhilfswerk //NONSGML Events //EN
CALSCALE:GREGORIAN
X-WR-CALNAME:Unionhilfswerk
BEGIN:VEVENT
CREATED:20251113T100204
UID:7365
DTSTART;VALUE=DATE:20260114T100000
DTEND;VALUE=DATE:20260114T130000
DTSTAMP:20260422T084215
LOCATION:Haus Friedenshöhe\, Sigismundkorso 68 - 70\, 13465 Berlin
DESCRIPTION:
SUMMARY:Neujahrsfrühstück in der Ortsteilgruppe …
ORGANIZER:
URL;VALUE=URI:https://www.unionhilfswerk.de/ueber-uns/landesverband-berlin/termine/neujahrsfruehstueck-in-der-ortsteilgruppe/
TRANSP:OPAQUE
END:VEVENT
END:VCALENDAR
