BEGIN:VCALENDAR
VERSION:2.0
PRODID:-//Unionhilfswerk //NONSGML Events //EN
CALSCALE:GREGORIAN
X-WR-CALNAME:Unionhilfswerk
BEGIN:VEVENT
CREATED:20251128T073109
UID:7444
DTSTART;VALUE=DATE:20260216T163000
DTEND;VALUE=DATE:20260216T183000
DTSTAMP:20260423T094609
LOCATION:Ev. Kirchengemeinde Frohnau  \, Zeltinger Platz 18\,  13465 Berlin
DESCRIPTION:Informationsveranstaltung\r\nMarie Schäffler Dipl. Soz.Wiss., Mediatorin, Coach
SUMMARY:Selbstbestimmt Vorsorge treffen – Teil 1: Vollmacht und Betreuung
ORGANIZER:Unionhilfswerk - Kontaktstelle PflegeEngagement Reinickendorf
URL;VALUE=URI:https://www.unionhilfswerk.de/angebote/beratung-unterstuetzung/kontaktstelle-pflegeengagement-reinickendorf/termine/selbstbestimmt-vorsorge-treffen-teil-1-vollmacht-und-betreuung/
TRANSP:OPAQUE
END:VEVENT
END:VCALENDAR
