BEGIN:VCALENDAR
VERSION:2.0
PRODID:-//Unionhilfswerk //NONSGML Events //EN
CALSCALE:GREGORIAN
X-WR-CALNAME:Unionhilfswerk
BEGIN:VEVENT
CREATED:20260116T094936
UID:7657
DTSTART;VALUE=DATE:20260504T160000
DTEND;VALUE=DATE:20260504T180000
DTSTAMP:20260422T112415
LOCATION:Besuchsdienst "Die GroßstadtGefährten"\, Richard-Sorge-Str. 21 A (EG)\, 10249 Berlin
DESCRIPTION:Fortbildung\r\nmit Petra Stunkat, exam. Altenpflegerin, Trainerin und Coach
SUMMARY:Ins Gespräch kommen – so klappt’s im Besuchsdienst
ORGANIZER:
URL;VALUE=URI:https://www.unionhilfswerk.de/engagement/termine/ins-gespraech-kommen-so-klappts-im-besuchsdienst-2/
TRANSP:OPAQUE
END:VEVENT
END:VCALENDAR
