BEGIN:VCALENDAR
VERSION:2.0
PRODID:-//Unionhilfswerk //NONSGML Events //EN
CALSCALE:GREGORIAN
X-WR-CALNAME:Unionhilfswerk
BEGIN:VEVENT
CREATED:20260116T125023
UID:7659
DTSTART;VALUE=DATE:20260316T163000
DTEND;VALUE=DATE:20260316T183000
DTSTAMP:20260423T082220
LOCATION:Ev. Kirchengemeinde Frohnau\, Zeltinger Platz 18 \, 13465 Berlin
DESCRIPTION:Infoveranstaltung\r\nMit Marie Schäffler, Dipl. Soz.Wiss., Mediatorin und Coach
SUMMARY:Selbstbestimmt Vorsorge treffen – Teil 2: Patientenverfügung
ORGANIZER:
URL;VALUE=URI:https://www.unionhilfswerk.de/engagement/termine/selbstbestimmt-vorsorge-treffen-teil-2-patientenverfuegung/
TRANSP:OPAQUE
END:VEVENT
END:VCALENDAR
