BEGIN:VCALENDAR
VERSION:2.0
PRODID:-//Unionhilfswerk //NONSGML Events //EN
CALSCALE:GREGORIAN
X-WR-CALNAME:Unionhilfswerk
BEGIN:VEVENT
CREATED:20260205T103503
UID:7737
DTSTART;VALUE=DATE:20260304T160000
DTEND;VALUE=DATE:20260304T170000
DTSTAMP:20260422T084015
LOCATION:P.A.N Zentrum für Post-Akute Neurorehabilitation der Fürst Donnersmarck Stiftung\, Wildkanzelweg 28\, 13465  Berlin
DESCRIPTION:Austausch- / Reflexionsrunde
SUMMARY:Ziemlich gute Technik!
ORGANIZER:
URL;VALUE=URI:https://www.unionhilfswerk.de/engagement/termine/ziemlich-gute-technik-4/
TRANSP:OPAQUE
END:VEVENT
END:VCALENDAR
