BEGIN:VCALENDAR
VERSION:2.0
PRODID:-//Unionhilfswerk //NONSGML Events //EN
CALSCALE:GREGORIAN
X-WR-CALNAME:Unionhilfswerk
BEGIN:VEVENT
CREATED:20260217T104213
UID:7813
DTSTART;VALUE=DATE:20260415T110000
DTEND;VALUE=DATE:20260415T130000
DTSTAMP:20260422T084228
LOCATION:Kieke mal\, Hultschiner Damm 84 A\, 12623 Berlin
DESCRIPTION:
SUMMARY:Patientenverfügungsberatung
ORGANIZER:
URL;VALUE=URI:https://www.unionhilfswerk.de/ueber-uns/landesverband-berlin/termine/patientenverfuegungsberatung-14/
TRANSP:OPAQUE
END:VEVENT
END:VCALENDAR
