BEGIN:VCALENDAR
VERSION:2.0
PRODID:-//Unionhilfswerk //NONSGML Events //EN
CALSCALE:GREGORIAN
X-WR-CALNAME:Unionhilfswerk
BEGIN:VEVENT
CREATED:20260217T105528
UID:7819
DTSTART;VALUE=DATE:20260704T133000
DTEND;VALUE=DATE:20260704T163000
DTSTAMP:20260422T084143
LOCATION:Seniorenfreizeitstätte Böhmisches Dorf\, Kirchgasse 62/ Ecke Richardstraße\, 12043 Berlin
DESCRIPTION:
SUMMARY:Grillfest
ORGANIZER:
URL;VALUE=URI:https://www.unionhilfswerk.de/ueber-uns/landesverband-berlin/termine/grillfest-4/
TRANSP:OPAQUE
END:VEVENT
END:VCALENDAR
