BEGIN:VCALENDAR
VERSION:2.0
PRODID:-//Unionhilfswerk //NONSGML Events //EN
CALSCALE:GREGORIAN
X-WR-CALNAME:Unionhilfswerk
BEGIN:VEVENT
CREATED:20260217T110251
UID:7821
DTSTART;VALUE=DATE:20260509T133000
DTEND;VALUE=DATE:20260509T163000
DTSTAMP:20260422T091523
LOCATION:Seniorenfreizeitstätte Böhmisches Dorf\, Richardstraße 78\, 12043 Berlin
DESCRIPTION:
SUMMARY:Gemütlicher Nachmittag
ORGANIZER:
URL;VALUE=URI:https://www.unionhilfswerk.de/ueber-uns/landesverband-berlin/termine/gemuetlicher-nachmittag/
TRANSP:OPAQUE
END:VEVENT
END:VCALENDAR
