BEGIN:VCALENDAR
VERSION:2.0
PRODID:-//Unionhilfswerk //NONSGML Events //EN
CALSCALE:GREGORIAN
X-WR-CALNAME:Unionhilfswerk
BEGIN:VEVENT
CREATED:20260217T122309
UID:7826
DTSTART;VALUE=DATE:20260422T143000
DTEND;VALUE=DATE:20260422T160000
DTSTAMP:20260422T084143
LOCATION:Seniorenzentrum Friedrichshain\, Singerstraße 83\, 10243 Berlin
DESCRIPTION:
SUMMARY:Duo – Wiener Blut
ORGANIZER:
URL;VALUE=URI:https://www.unionhilfswerk.de/ueber-uns/landesverband-berlin/termine/duo-wiener-blut/
TRANSP:OPAQUE
END:VEVENT
END:VCALENDAR
