BEGIN:VCALENDAR
VERSION:2.0
PRODID:-//Unionhilfswerk //NONSGML Events //EN
CALSCALE:GREGORIAN
X-WR-CALNAME:Unionhilfswerk
BEGIN:VEVENT
CREATED:20260217T130427
UID:7841
DTSTART;VALUE=DATE:20260614T100000
DTEND;VALUE=DATE:20260614T120000
DTSTAMP:20260422T084107
LOCATION:Seniorenklub Lindenufer\, Mauerstraße 10a\, 13597 Berlin
DESCRIPTION:
SUMMARY:Frühstücksbuffet – Achtung Sonntag!!!
ORGANIZER:
URL;VALUE=URI:https://www.unionhilfswerk.de/ueber-uns/landesverband-berlin/termine/fruehstuecksbuffet-achtung-sonntag/
TRANSP:OPAQUE
END:VEVENT
END:VCALENDAR
