BEGIN:VCALENDAR
VERSION:2.0
PRODID:-//Unionhilfswerk //NONSGML Events //EN
CALSCALE:GREGORIAN
X-WR-CALNAME:Unionhilfswerk
BEGIN:VEVENT
CREATED:20260217T130526
UID:7844
DTSTART;VALUE=DATE:20260620T100000
DTEND;VALUE=DATE:20260620T120000
DTSTAMP:20260422T084145
LOCATION:Seniorenwohnhaus\, Kulbeweg 24a\, 13587 Berlin
DESCRIPTION:
SUMMARY:Frühstückstafel
ORGANIZER:
URL;VALUE=URI:https://www.unionhilfswerk.de/ueber-uns/landesverband-berlin/termine/fruehstueckstafel-21/
TRANSP:OPAQUE
END:VEVENT
END:VCALENDAR
