BEGIN:VCALENDAR
VERSION:2.0
PRODID:-//Unionhilfswerk //NONSGML Events //EN
CALSCALE:GREGORIAN
X-WR-CALNAME:Unionhilfswerk
BEGIN:VEVENT
CREATED:20260217T143233
UID:7857
DTSTART;VALUE=DATE:20260507T140000
DTEND;VALUE=DATE:20260507T163000
DTSTAMP:20260422T084228
LOCATION:Pflegedienst Am Faulen See\, Am Faulen See 1\, 13053 Berlin
DESCRIPTION:
SUMMARY:Plauderstunde
ORGANIZER:
URL;VALUE=URI:https://www.unionhilfswerk.de/ueber-uns/landesverband-berlin/termine/plauderstunde-12/
TRANSP:OPAQUE
END:VEVENT
END:VCALENDAR
